Package: NBAMSeq Version: 1.25.0 Command: /home/biocbuild/bbs-3.22-bioc/R/bin/R CMD INSTALL NBAMSeq StartedAt: 2025-10-03 15:35:20 -0400 (Fri, 03 Oct 2025) EndedAt: 2025-10-03 15:35:51 -0400 (Fri, 03 Oct 2025) EllapsedTime: 30.9 seconds RetCode: 0 Status: OK