Package: NBAMSeq Version: 1.25.0 Command: /home/biocbuild/bbs-3.22-bioc/R/bin/R CMD build --keep-empty-dirs --no-resave-data --md5 NBAMSeq StartedAt: 2025-10-03 18:58:06 -0400 (Fri, 03 Oct 2025) EndedAt: 2025-10-03 18:59:19 -0400 (Fri, 03 Oct 2025) EllapsedTime: 73.1 seconds RetCode: 0 Status: OK PackageFile: NBAMSeq_1.25.0.tar.gz PackageFileSize: 322.6 KiB