Package: MultimodalExperiment Version: 1.11.0 Command: /Library/Frameworks/R.framework/Resources/bin/R CMD INSTALL MultimodalExperiment StartedAt: 2025-11-25 15:40:54 -0500 (Tue, 25 Nov 2025) EndedAt: 2025-11-25 15:41:34 -0500 (Tue, 25 Nov 2025) EllapsedTime: 39.5 seconds RetCode: 0 Status: OK