Package: MultimodalExperiment Version: 1.11.0 Command: rm -rf MultimodalExperiment.buildbin-libdir && mkdir MultimodalExperiment.buildbin-libdir && /Users/biocbuild/BBS/utils/build-universal.sh MultimodalExperiment_1.11.0.tar.gz /Library/Frameworks/R.framework/Resources/bin/R MultimodalExperiment.buildbin-libdir StartedAt: 2025-11-26 01:57:58 -0500 (Wed, 26 Nov 2025) EndedAt: 2025-11-26 01:58:41 -0500 (Wed, 26 Nov 2025) EllapsedTime: 42.4 seconds RetCode: 0 Status: OK PackageFile: MultimodalExperiment_1.11.0.tgz PackageFileSize: 4.46 MiB