Package: MultimodalExperiment Version: 1.11.0 Command: /Library/Frameworks/R.framework/Resources/bin/R CMD INSTALL MultimodalExperiment StartedAt: 2025-11-16 15:14:39 -0500 (Sun, 16 Nov 2025) EndedAt: 2025-11-16 15:14:51 -0500 (Sun, 16 Nov 2025) EllapsedTime: 11.4 seconds RetCode: 0 Status: OK