Package: MultiRNAflow Version: 1.9.0 Command: /Library/Frameworks/R.framework/Resources/bin/R CMD build --keep-empty-dirs --no-resave-data MultiRNAflow StartedAt: 2025-11-27 17:07:58 -0500 (Thu, 27 Nov 2025) EndedAt: 2025-11-27 17:10:05 -0500 (Thu, 27 Nov 2025) EllapsedTime: 127.4 seconds RetCode: 0 Status: OK PackageFile: MultiRNAflow_1.9.0.tar.gz PackageFileSize: 3.134 MiB