Package: MultiBaC Version: 1.19.0 Command: /home/biocbuild/bbs-3.22-bioc/R/bin/R CMD INSTALL MultiBaC StartedAt: 2025-09-30 15:38:34 -0400 (Tue, 30 Sep 2025) EndedAt: 2025-09-30 15:38:39 -0400 (Tue, 30 Sep 2025) EllapsedTime: 5.7 seconds RetCode: 0 Status: OK