Package: MultiAssayExperiment Version: 1.35.9 Command: /home/biocbuild/bbs-3.22-bioc/R/bin/R CMD INSTALL MultiAssayExperiment StartedAt: 2025-10-03 15:18:50 -0400 (Fri, 03 Oct 2025) EndedAt: 2025-10-03 15:19:22 -0400 (Fri, 03 Oct 2025) EllapsedTime: 31.7 seconds RetCode: 0 Status: OK