Package: MultiAssayExperiment Version: 1.35.9 Command: /home/biocbuild/bbs-3.22-bioc/R/bin/R CMD build --keep-empty-dirs --no-resave-data --md5 MultiAssayExperiment StartedAt: 2025-10-03 18:53:33 -0400 (Fri, 03 Oct 2025) EndedAt: 2025-10-03 18:54:50 -0400 (Fri, 03 Oct 2025) EllapsedTime: 77.1 seconds RetCode: 0 Status: OK PackageFile: MultiAssayExperiment_1.35.9.tar.gz PackageFileSize: 1.322 MiB