Package: MuData Version: 1.13.0 Command: /home/biocbuild/bbs-3.22-bioc/R/bin/R CMD INSTALL MuData StartedAt: 2025-10-08 15:31:33 -0400 (Wed, 08 Oct 2025) EndedAt: 2025-10-08 15:31:59 -0400 (Wed, 08 Oct 2025) EllapsedTime: 26.3 seconds RetCode: 0 Status: OK