Package: MsFeatures Version: 1.19.0 Command: /home/biocbuild/bbs-3.23-bioc/R/bin/R CMD INSTALL MsFeatures StartedAt: 2025-11-27 15:21:58 -0500 (Thu, 27 Nov 2025) EndedAt: 2025-11-27 15:22:18 -0500 (Thu, 27 Nov 2025) EllapsedTime: 20.0 seconds RetCode: 0 Status: OK