Package: MsFeatures Version: 1.19.0 Command: /Library/Frameworks/R.framework/Resources/bin/R CMD INSTALL MsFeatures StartedAt: 2025-11-20 15:28:09 -0500 (Thu, 20 Nov 2025) EndedAt: 2025-11-20 15:28:38 -0500 (Thu, 20 Nov 2025) EllapsedTime: 29.4 seconds RetCode: 0 Status: OK