Package: MsFeatures Version: 1.19.0 Command: /Library/Frameworks/R.framework/Resources/bin/R CMD build --keep-empty-dirs --no-resave-data MsFeatures StartedAt: 2025-11-20 17:53:10 -0500 (Thu, 20 Nov 2025) EndedAt: 2025-11-20 17:54:00 -0500 (Thu, 20 Nov 2025) EllapsedTime: 50.2 seconds RetCode: 0 Status: OK PackageFile: MsFeatures_1.19.0.tar.gz PackageFileSize: 1.219 MiB