Package: MsFeatures Version: 1.19.0 Command: rm -rf MsFeatures.buildbin-libdir && mkdir MsFeatures.buildbin-libdir && /Users/biocbuild/BBS/utils/build-universal.sh MsFeatures_1.19.0.tar.gz /Library/Frameworks/R.framework/Resources/bin/R MsFeatures.buildbin-libdir StartedAt: 2025-11-21 01:45:02 -0500 (Fri, 21 Nov 2025) EndedAt: 2025-11-21 01:45:34 -0500 (Fri, 21 Nov 2025) EllapsedTime: 31.3 seconds RetCode: 0 Status: OK PackageFile: MsFeatures_1.19.0.tgz PackageFileSize: 1.266 MiB