Package: MsFeatures Version: 1.19.0 Command: /Library/Frameworks/R.framework/Resources/bin/R CMD INSTALL MsFeatures StartedAt: 2025-11-14 15:14:43 -0500 (Fri, 14 Nov 2025) EndedAt: 2025-11-14 15:14:52 -0500 (Fri, 14 Nov 2025) EllapsedTime: 8.6 seconds RetCode: 0 Status: OK