Package: MsFeatures Version: 1.19.0 Command: /Library/Frameworks/R.framework/Resources/bin/R CMD build --keep-empty-dirs --no-resave-data MsFeatures StartedAt: 2025-11-14 17:04:39 -0500 (Fri, 14 Nov 2025) EndedAt: 2025-11-14 17:04:56 -0500 (Fri, 14 Nov 2025) EllapsedTime: 16.2 seconds RetCode: 0 Status: OK PackageFile: MsFeatures_1.19.0.tar.gz PackageFileSize: 1.219 MiB