Package: MsFeatures Version: 1.19.0 Command: rm -rf MsFeatures.buildbin-libdir && mkdir MsFeatures.buildbin-libdir && /Users/biocbuild/BBS/utils/build-universal.sh MsFeatures_1.19.0.tar.gz /Library/Frameworks/R.framework/Resources/bin/R MsFeatures.buildbin-libdir StartedAt: 2025-11-14 23:42:08 -0500 (Fri, 14 Nov 2025) EndedAt: 2025-11-14 23:42:19 -0500 (Fri, 14 Nov 2025) EllapsedTime: 10.2 seconds RetCode: 0 Status: OK PackageFile: MsFeatures_1.19.0.tgz PackageFileSize: 1.266 MiB