Package: MsBackendSql Version: 1.11.1 Command: /home/biocbuild/bbs-3.23-bioc/R/bin/R CMD INSTALL MsBackendSql StartedAt: 2025-11-14 15:15:19 -0500 (Fri, 14 Nov 2025) EndedAt: 2025-11-14 15:15:32 -0500 (Fri, 14 Nov 2025) EllapsedTime: 12.9 seconds RetCode: 0 Status: OK