Package: MsBackendSql Version: 1.11.1 Command: /home/biocbuild/bbs-3.23-bioc/R/bin/R CMD build --keep-empty-dirs --no-resave-data MsBackendSql StartedAt: 2025-11-14 18:50:24 -0500 (Fri, 14 Nov 2025) EndedAt: 2025-11-14 18:51:23 -0500 (Fri, 14 Nov 2025) EllapsedTime: 59.0 seconds RetCode: 0 Status: OK PackageFile: MsBackendSql_1.11.1.tar.gz PackageFileSize: 348.4 KiB