Package: MsBackendSql Version: 1.9.4 Command: /Library/Frameworks/R.framework/Resources/bin/R CMD INSTALL MsBackendSql StartedAt: 2025-10-27 15:07:32 -0400 (Mon, 27 Oct 2025) EndedAt: 2025-10-27 15:07:38 -0400 (Mon, 27 Oct 2025) EllapsedTime: 5.3 seconds RetCode: 0 Status: OK