Package: MsBackendSql Version: 1.9.4 Command: rm -rf MsBackendSql.buildbin-libdir && mkdir MsBackendSql.buildbin-libdir && /Users/biocbuild/BBS/utils/build-universal.sh MsBackendSql_1.9.4.tar.gz /Library/Frameworks/R.framework/Resources/bin/R MsBackendSql.buildbin-libdir StartedAt: 2025-10-26 22:42:10 -0400 (Sun, 26 Oct 2025) EndedAt: 2025-10-26 22:42:16 -0400 (Sun, 26 Oct 2025) EllapsedTime: 6.2 seconds RetCode: 0 Status: OK PackageFile: MsBackendSql_1.9.4.tgz PackageFileSize: 636.8 KiB