Package: MsBackendRawFileReader Version: 1.15.1 Command: /home/biocbuild/R/R/bin/R CMD INSTALL MsBackendRawFileReader StartedAt: 2025-10-06 20:26:25 -0000 (Mon, 06 Oct 2025) EndedAt: 2025-10-06 20:26:39 -0000 (Mon, 06 Oct 2025) EllapsedTime: 14.0 seconds RetCode: 0 Status: OK