Package: MsBackendRawFileReader Version: 1.17.0 Command: /home/biocbuild/bbs-3.23-bioc/R/bin/R CMD INSTALL MsBackendRawFileReader StartedAt: 2025-11-13 15:14:29 -0500 (Thu, 13 Nov 2025) EndedAt: 2025-11-13 15:14:38 -0500 (Thu, 13 Nov 2025) EllapsedTime: 9.6 seconds RetCode: 0 Status: OK