Package: MsBackendMsp Version: 1.13.0 Command: /Library/Frameworks/R.framework/Resources/bin/R CMD INSTALL MsBackendMsp StartedAt: 2025-10-22 15:08:02 -0400 (Wed, 22 Oct 2025) EndedAt: 2025-10-22 15:08:05 -0400 (Wed, 22 Oct 2025) EllapsedTime: 3.5 seconds RetCode: 0 Status: OK