Package: MsBackendMsp Version: 1.13.0 Command: /Library/Frameworks/R.framework/Resources/bin/R CMD build --keep-empty-dirs --no-resave-data MsBackendMsp StartedAt: 2025-10-23 17:10:10 -0400 (Thu, 23 Oct 2025) EndedAt: 2025-10-23 17:10:17 -0400 (Thu, 23 Oct 2025) EllapsedTime: 7.1 seconds RetCode: 0 Status: OK PackageFile: MsBackendMsp_1.13.0.tar.gz PackageFileSize: 324.8 KiB