Package: MsBackendMetaboLights Version: 1.3.1 Command: /home/biocbuild/bbs-3.22-bioc/R/bin/R CMD INSTALL MsBackendMetaboLights StartedAt: 2025-09-29 15:14:02 -0400 (Mon, 29 Sep 2025) EndedAt: 2025-09-29 15:14:17 -0400 (Mon, 29 Sep 2025) EllapsedTime: 14.8 seconds RetCode: 0 Status: OK