Package: MsBackendMetaboLights Version: 1.3.1 Command: /home/biocbuild/bbs-3.22-bioc/R/bin/R CMD build --keep-empty-dirs --no-resave-data --md5 MsBackendMetaboLights StartedAt: 2025-09-29 19:08:10 -0400 (Mon, 29 Sep 2025) EndedAt: 2025-09-29 19:08:35 -0400 (Mon, 29 Sep 2025) EllapsedTime: 25.0 seconds RetCode: 1 Status: ERROR PackageFile: None PackageFileSize: NA