Package: MsBackendMassbank Version: 1.17.1 Command: /home/biocbuild/bbs-3.22-bioc/R/bin/R CMD INSTALL MsBackendMassbank StartedAt: 2025-10-22 15:14:38 -0400 (Wed, 22 Oct 2025) EndedAt: 2025-10-22 15:14:49 -0400 (Wed, 22 Oct 2025) EllapsedTime: 10.9 seconds RetCode: 0 Status: OK