Package: Modstrings Version: 1.25.0 Command: /home/biocbuild/R/R/bin/R CMD INSTALL Modstrings StartedAt: 2025-09-29 20:47:59 -0000 (Mon, 29 Sep 2025) EndedAt: 2025-09-29 20:48:24 -0000 (Mon, 29 Sep 2025) EllapsedTime: 24.6 seconds RetCode: 0 Status: OK