Package: Modstrings Version: 1.25.0 Command: /home/biocbuild/R/R/bin/R CMD build --keep-empty-dirs --no-resave-data Modstrings StartedAt: 2025-10-03 01:30:07 -0000 (Fri, 03 Oct 2025) EndedAt: 2025-10-03 01:30:48 -0000 (Fri, 03 Oct 2025) EllapsedTime: 41.0 seconds RetCode: 0 Status: OK PackageFile: Modstrings_1.25.0.tar.gz PackageFileSize: 952.5 KiB