Package: ModCon Version: 1.19.0 Command: /home/biocbuild/bbs-3.23-bioc/R/bin/R CMD INSTALL ModCon StartedAt: 2025-11-06 15:01:39 -0500 (Thu, 06 Nov 2025) EndedAt: 2025-11-06 15:01:54 -0500 (Thu, 06 Nov 2025) EllapsedTime: 14.6 seconds RetCode: 0 Status: OK