Package: MinimumDistance Version: 1.53.1 Command: /home/biocbuild/bbs-3.22-bioc/R/bin/R CMD INSTALL MinimumDistance StartedAt: 2025-10-01 15:43:33 -0400 (Wed, 01 Oct 2025) EndedAt: 2025-10-01 15:44:36 -0400 (Wed, 01 Oct 2025) EllapsedTime: 62.4 seconds RetCode: 0 Status: OK