Package: MethTargetedNGS Version: 1.41.0 Command: /home/biocbuild/bbs-3.22-bioc/R/bin/R CMD INSTALL MethTargetedNGS StartedAt: 2025-09-29 15:59:20 -0400 (Mon, 29 Sep 2025) EndedAt: 2025-09-29 15:59:34 -0400 (Mon, 29 Sep 2025) EllapsedTime: 14.2 seconds RetCode: 0 Status: OK