Package: MetaboCoreUtils Version: 1.17.1 Command: /Library/Frameworks/R.framework/Resources/bin/R CMD INSTALL MetaboCoreUtils StartedAt: 2025-09-29 15:14:22 -0400 (Mon, 29 Sep 2025) EndedAt: 2025-09-29 15:14:32 -0400 (Mon, 29 Sep 2025) EllapsedTime: 10.0 seconds RetCode: 0 Status: OK