Package: MetaboCoreUtils Version: 1.17.1 Command: /Library/Frameworks/R.framework/Resources/bin/R CMD build --keep-empty-dirs --no-resave-data MetaboCoreUtils StartedAt: 2025-09-29 17:37:45 -0400 (Mon, 29 Sep 2025) EndedAt: 2025-09-29 17:38:09 -0400 (Mon, 29 Sep 2025) EllapsedTime: 24.0 seconds RetCode: 0 Status: OK PackageFile: MetaboCoreUtils_1.17.1.tar.gz PackageFileSize: 1.01 MiB