Package: MetaboCoreUtils Version: 1.17.1 Command: rm -rf MetaboCoreUtils.buildbin-libdir && mkdir MetaboCoreUtils.buildbin-libdir && /Users/biocbuild/BBS/utils/build-universal.sh MetaboCoreUtils_1.17.1.tar.gz /Library/Frameworks/R.framework/Resources/bin/R MetaboCoreUtils.buildbin-libdir StartedAt: 2025-10-01 01:51:07 -0400 (Wed, 01 Oct 2025) EndedAt: 2025-10-01 01:51:17 -0400 (Wed, 01 Oct 2025) EllapsedTime: 10.5 seconds RetCode: 0 Status: OK PackageFile: MetaboCoreUtils_1.17.1.tgz PackageFileSize: 1.087 MiB