Package: MetaboAnnotation Version: 1.15.0 Command: /home/biocbuild/bbs-3.23-bioc/R/bin/R CMD build --keep-empty-dirs --no-resave-data MetaboAnnotation StartedAt: 2025-11-27 18:30:39 -0500 (Thu, 27 Nov 2025) EndedAt: 2025-11-27 18:32:10 -0500 (Thu, 27 Nov 2025) EllapsedTime: 91.1 seconds RetCode: 0 Status: OK PackageFile: MetaboAnnotation_1.15.0.tar.gz PackageFileSize: 1.24 MiB