Package: MetaboAnnotation Version: 1.15.0 Command: rm -rf MetaboAnnotation.buildbin-libdir && mkdir MetaboAnnotation.buildbin-libdir && /Users/biocbuild/BBS/utils/build-universal.sh MetaboAnnotation_1.15.0.tar.gz /Library/Frameworks/R.framework/Resources/bin/R MetaboAnnotation.buildbin-libdir StartedAt: 2025-11-13 23:44:27 -0500 (Thu, 13 Nov 2025) EndedAt: 2025-11-13 23:44:48 -0500 (Thu, 13 Nov 2025) EllapsedTime: 20.5 seconds RetCode: 0 Status: OK PackageFile: MetaboAnnotation_1.15.0.tgz PackageFileSize: 1.761 MiB