Package: MetaCyto Version: 1.31.0 Command: /home/biocbuild/bbs-3.22-bioc/R/bin/R CMD INSTALL MetaCyto StartedAt: 2025-10-06 15:13:28 -0400 (Mon, 06 Oct 2025) EndedAt: 2025-10-06 15:13:42 -0400 (Mon, 06 Oct 2025) EllapsedTime: 13.8 seconds RetCode: 0 Status: OK