Package: MetaCyto Version: 1.31.0 Command: /home/biocbuild/bbs-3.22-bioc/R/bin/R CMD build --keep-empty-dirs --no-resave-data --md5 MetaCyto StartedAt: 2025-10-06 18:30:41 -0400 (Mon, 06 Oct 2025) EndedAt: 2025-10-06 18:33:56 -0400 (Mon, 06 Oct 2025) EllapsedTime: 195.1 seconds RetCode: 0 Status: OK PackageFile: MetaCyto_1.31.0.tar.gz PackageFileSize: 1.035 MiB