Package: MeasurementError.cor Version: 1.81.0 Command: /home/biocbuild/bbs-3.22-bioc/R/bin/R CMD INSTALL MeasurementError.cor StartedAt: 2025-10-01 15:05:27 -0400 (Wed, 01 Oct 2025) EndedAt: 2025-10-01 15:05:37 -0400 (Wed, 01 Oct 2025) EllapsedTime: 10.3 seconds RetCode: 0 Status: OK