Package: MatrixGenerics Version: 1.23.0 Command: /home/biocbuild/bbs-3.23-bioc/R/bin/R CMD INSTALL MatrixGenerics StartedAt: 2025-11-26 15:04:20 -0500 (Wed, 26 Nov 2025) EndedAt: 2025-11-26 15:04:38 -0500 (Wed, 26 Nov 2025) EllapsedTime: 18.2 seconds RetCode: 0 Status: OK