Package: MatrixGenerics Version: 1.23.0 Command: /Library/Frameworks/R.framework/Resources/bin/R CMD INSTALL MatrixGenerics StartedAt: 2025-11-18 15:10:45 -0500 (Tue, 18 Nov 2025) EndedAt: 2025-11-18 15:11:16 -0500 (Tue, 18 Nov 2025) EllapsedTime: 30.8 seconds RetCode: 0 Status: OK