Package: MatrixGenerics Version: 1.23.0 Command: rm -rf MatrixGenerics.buildbin-libdir && mkdir MatrixGenerics.buildbin-libdir && /Users/biocbuild/BBS/utils/build-universal.sh MatrixGenerics_1.23.0.tar.gz /Library/Frameworks/R.framework/Resources/bin/R MatrixGenerics.buildbin-libdir StartedAt: 2025-11-20 01:40:51 -0500 (Thu, 20 Nov 2025) EndedAt: 2025-11-20 01:41:02 -0500 (Thu, 20 Nov 2025) EllapsedTime: 11.7 seconds RetCode: 0 Status: OK PackageFile: MatrixGenerics_1.23.0.tgz PackageFileSize: 447 KiB