Package: MatrixGenerics Version: 1.23.0 Command: /Library/Frameworks/R.framework/Resources/bin/R CMD INSTALL MatrixGenerics StartedAt: 2025-11-13 15:02:22 -0500 (Thu, 13 Nov 2025) EndedAt: 2025-11-13 15:02:28 -0500 (Thu, 13 Nov 2025) EllapsedTime: 5.4 seconds RetCode: 0 Status: OK