Package: MatrixGenerics Version: 1.23.0 Command: rm -rf MatrixGenerics.buildbin-libdir && mkdir MatrixGenerics.buildbin-libdir && /Users/biocbuild/BBS/utils/build-universal.sh MatrixGenerics_1.23.0.tar.gz /Library/Frameworks/R.framework/Resources/bin/R MatrixGenerics.buildbin-libdir StartedAt: 2025-11-13 23:44:00 -0500 (Thu, 13 Nov 2025) EndedAt: 2025-11-13 23:44:03 -0500 (Thu, 13 Nov 2025) EllapsedTime: 3.1 seconds RetCode: 0 Status: OK PackageFile: MatrixGenerics_1.23.0.tgz PackageFileSize: 449.2 KiB