Package: MassSpecWavelet Version: 1.75.1 Command: /home/biocbuild/bbs-3.22-bioc/R/bin/R CMD INSTALL MassSpecWavelet StartedAt: 2025-10-05 15:01:39 -0400 (Sun, 05 Oct 2025) EndedAt: 2025-10-05 15:01:53 -0400 (Sun, 05 Oct 2025) EllapsedTime: 13.4 seconds RetCode: 0 Status: OK