Package: MassArray Version: 1.63.0 Command: /Library/Frameworks/R.framework/Resources/bin/R CMD INSTALL MassArray StartedAt: 2025-11-26 15:02:01 -0500 (Wed, 26 Nov 2025) EndedAt: 2025-11-26 15:02:03 -0500 (Wed, 26 Nov 2025) EllapsedTime: 2.4 seconds RetCode: 0 Status: OK