Package: MWASTools Version: 1.33.0 Command: /home/biocbuild/bbs-3.22-bioc/R/bin/R CMD INSTALL MWASTools StartedAt: 2025-10-08 15:36:35 -0400 (Wed, 08 Oct 2025) EndedAt: 2025-10-08 15:37:09 -0400 (Wed, 08 Oct 2025) EllapsedTime: 33.9 seconds RetCode: 0 Status: OK