Package: MWASTools Version: 1.33.0 Command: /home/biocbuild/bbs-3.22-bioc/R/bin/R CMD build --keep-empty-dirs --no-resave-data --md5 MWASTools StartedAt: 2025-10-08 19:21:21 -0400 (Wed, 08 Oct 2025) EndedAt: 2025-10-08 19:22:56 -0400 (Wed, 08 Oct 2025) EllapsedTime: 95.1 seconds RetCode: 0 Status: OK PackageFile: MWASTools_1.33.0.tar.gz PackageFileSize: 2.654 MiB